BEGIN:VCALENDAR
VERSION:2.0
PRODID:-//lincolnikes.com//NONSGML kigkonsult.se iCalcreator 2.30.10//
CALSCALE:GREGORIAN
METHOD:PUBLISH
UID:a330582e-8802-4c46-9588-3d7f77e2d3b0
X-WR-CALDESC:
X-WR-RELCALID:37532c4c634fa849692f9e317b7f438e
X-WR-TIMEZONE:America/Chicago
BEGIN:VTIMEZONE
TZID:America/Chicago
BEGIN:STANDARD
TZNAME:CST
DTSTART:20251102T020000
TZOFFSETFROM:-0500
TZOFFSETTO:-0600
RDATE:20261101T020000
RDATE:20271107T020000
END:STANDARD
BEGIN:DAYLIGHT
TZNAME:CDT
DTSTART:20260308T020000
TZOFFSETFROM:-0600
TZOFFSETTO:-0500
RDATE:20270314T020000
END:DAYLIGHT
END:VTIMEZONE
BEGIN:VEVENT
UID:b964802b-0c40-4f50-9ba5-4e23d766b63f
DTSTAMP:20260423T074619Z
DESCRIPTION:
DTSTART;TZID=America/Chicago:20260716T180000
DTEND;TZID=America/Chicago:20260716T200000
LOCATION:Lincoln Ikes Rifle Range 4
SUMMARY:.22 Silhouettes (Range 4)
END:VEVENT
END:VCALENDAR
