BEGIN:VCALENDAR
VERSION:2.0
PRODID:-//lincolnikes.com//NONSGML kigkonsult.se iCalcreator 2.30.10//
CALSCALE:GREGORIAN
METHOD:PUBLISH
UID:89884804-f176-4bbe-909e-003116687d6f
X-WR-CALDESC:
X-WR-RELCALID:153ca10fed9f632f997ceea73f4b7386
X-WR-TIMEZONE:America/Chicago
BEGIN:VTIMEZONE
TZID:America/Chicago
BEGIN:STANDARD
TZNAME:CST
DTSTART:20251102T020000
TZOFFSETFROM:-0500
TZOFFSETTO:-0600
RDATE:20261101T020000
RDATE:20271107T020000
END:STANDARD
BEGIN:DAYLIGHT
TZNAME:CDT
DTSTART:20260308T020000
TZOFFSETFROM:-0600
TZOFFSETTO:-0500
RDATE:20270314T020000
END:DAYLIGHT
END:VTIMEZONE
BEGIN:VEVENT
UID:02358b53-ee32-4be6-9d75-26ec3ddd79ba
DTSTAMP:20260423T074237Z
DESCRIPTION:
DTSTART;TZID=America/Chicago:20260719T070000
DTEND;TZID=America/Chicago:20260719T150000
LOCATION:Rifle Range 2
SUMMARY:ARA Match (Range 2)
END:VEVENT
END:VCALENDAR
