BEGIN:VCALENDAR
VERSION:2.0
PRODID:-//lincolnikes.com//NONSGML kigkonsult.se iCalcreator 2.30.10//
CALSCALE:GREGORIAN
METHOD:PUBLISH
UID:3782892a-2cd8-484f-8d90-59a48cb5b2e2
X-WR-CALDESC:
X-WR-RELCALID:9696274afe9410298dd5842cd7c5b0e8
X-WR-TIMEZONE:America/Chicago
BEGIN:VTIMEZONE
TZID:America/Chicago
BEGIN:STANDARD
TZNAME:CST
DTSTART:20251102T020000
TZOFFSETFROM:-0500
TZOFFSETTO:-0600
RDATE:20261101T020000
RDATE:20271107T020000
END:STANDARD
BEGIN:DAYLIGHT
TZNAME:CDT
DTSTART:20260308T020000
TZOFFSETFROM:-0600
TZOFFSETTO:-0500
RDATE:20270314T020000
END:DAYLIGHT
END:VTIMEZONE
BEGIN:VEVENT
UID:65c2bef4-d3cf-4c1c-b2d1-eb12c7d6fe8f
DTSTAMP:20260423T074503Z
DESCRIPTION:
DTSTART;TZID=America/Chicago:20260719T150000
DTEND;TZID=America/Chicago:20260719T213000
LOCATION:10801 South 134th Street\, Bennet\, AL 68317 US
SUMMARY:2026 NHSFR-Lincoln Set-Up Day(Rifle Range 2)
END:VEVENT
END:VCALENDAR
