BEGIN:VCALENDAR
VERSION:2.0
PRODID:-//lincolnikes.com//NONSGML kigkonsult.se iCalcreator 2.30.10//
CALSCALE:GREGORIAN
METHOD:PUBLISH
UID:5f0217b0-b1e3-4372-ae0c-bd835b0970f2
X-WR-CALDESC:
X-WR-RELCALID:ededeefc365bfe4f26e883c3ac584617
X-WR-TIMEZONE:America/Chicago
BEGIN:VTIMEZONE
TZID:America/Chicago
BEGIN:STANDARD
TZNAME:CST
DTSTART:20251102T020000
TZOFFSETFROM:-0500
TZOFFSETTO:-0600
RDATE:20261101T020000
RDATE:20271107T020000
END:STANDARD
BEGIN:DAYLIGHT
TZNAME:CDT
DTSTART:20260308T020000
TZOFFSETFROM:-0600
TZOFFSETTO:-0500
RDATE:20270314T020000
END:DAYLIGHT
END:VTIMEZONE
BEGIN:VEVENT
UID:6281a54c-8a85-4703-95ad-8b4dab401e67
DTSTAMP:20260423T074900Z
DESCRIPTION:
DTSTART;TZID=America/Chicago:20260721T080000
DTEND;TZID=America/Chicago:20260721T180000
LOCATION:10801 South 134th Street\, Bennet\, NE 68317 US
SUMMARY:2026 NHSFR-Lincoln (Clubhouse\, Trap Range\, Rifle Range 2)
END:VEVENT
END:VCALENDAR
