BEGIN:VCALENDAR
VERSION:2.0
PRODID:-//lincolnikes.com//NONSGML kigkonsult.se iCalcreator 2.30.10//
CALSCALE:GREGORIAN
METHOD:PUBLISH
UID:daee0579-02bb-447e-817b-706b171c871b
X-WR-CALDESC:
X-WR-RELCALID:6627abdd81a2cdd50d086d0723fa9393
X-WR-TIMEZONE:America/Chicago
BEGIN:VTIMEZONE
TZID:America/Chicago
BEGIN:STANDARD
TZNAME:CST
DTSTART:20251102T020000
TZOFFSETFROM:-0500
TZOFFSETTO:-0600
RDATE:20261101T020000
RDATE:20271107T020000
END:STANDARD
BEGIN:DAYLIGHT
TZNAME:CDT
DTSTART:20260308T020000
TZOFFSETFROM:-0600
TZOFFSETTO:-0500
RDATE:20270314T020000
END:DAYLIGHT
END:VTIMEZONE
BEGIN:VEVENT
UID:42be748e-4739-416a-8b31-eac3e2ff6371
DTSTAMP:20260423T074900Z
DESCRIPTION:
DTSTART;TZID=America/Chicago:20260723T080000
DTEND;TZID=America/Chicago:20260723T180000
LOCATION:10801 South 134th Street\, Bennet\, NE 68317 US
SUMMARY:2026 NHSFR-Lincoln (Clubhouse\, Trap Range\, Rifle Range 2)
END:VEVENT
END:VCALENDAR
