BEGIN:VCALENDAR
VERSION:2.0
PRODID:-//lincolnikes.com//NONSGML kigkonsult.se iCalcreator 2.30.10//
CALSCALE:GREGORIAN
METHOD:PUBLISH
UID:fce7927e-8d61-48b5-8c11-b82bb71acdc0
X-WR-CALDESC:
X-WR-RELCALID:7dcb8c971f9c19677da2e5498143761b
X-WR-TIMEZONE:America/Chicago
BEGIN:VTIMEZONE
TZID:America/Chicago
BEGIN:STANDARD
TZNAME:CST
DTSTART:20251102T020000
TZOFFSETFROM:-0500
TZOFFSETTO:-0600
RDATE:20261101T020000
RDATE:20271107T020000
END:STANDARD
BEGIN:DAYLIGHT
TZNAME:CDT
DTSTART:20260308T020000
TZOFFSETFROM:-0600
TZOFFSETTO:-0500
RDATE:20270314T020000
END:DAYLIGHT
END:VTIMEZONE
BEGIN:VEVENT
UID:6f9ea714-2436-40ec-b75b-13a525582387
DTSTAMP:20260423T074826Z
DESCRIPTION:
DTSTART;TZID=America/Chicago:20260724T080000
DTEND;TZID=America/Chicago:20260724T180000
LOCATION:10801 South 134th Street\, Bennet\, NE 68317 US
SUMMARY:2026 NHSFR-Lincoln (Clubhouse\, Trap Range\, Rifle Range 2)
END:VEVENT
END:VCALENDAR
