BEGIN:VCALENDAR
VERSION:2.0
PRODID:-//lincolnikes.com//NONSGML kigkonsult.se iCalcreator 2.30.10//
CALSCALE:GREGORIAN
METHOD:PUBLISH
UID:2fdfb17f-705f-480c-9c7f-8dc14c2d76fb
X-WR-CALDESC:
X-WR-RELCALID:8fef9ed3caf347e8e36efef7ca8d183d
X-WR-TIMEZONE:America/Chicago
BEGIN:VTIMEZONE
TZID:America/Chicago
BEGIN:STANDARD
TZNAME:CST
DTSTART:20251102T020000
TZOFFSETFROM:-0500
TZOFFSETTO:-0600
RDATE:20261101T020000
RDATE:20271107T020000
END:STANDARD
BEGIN:DAYLIGHT
TZNAME:CDT
DTSTART:20260308T020000
TZOFFSETFROM:-0600
TZOFFSETTO:-0500
RDATE:20270314T020000
END:DAYLIGHT
END:VTIMEZONE
BEGIN:VEVENT
UID:ddbb7d3b-be6e-4489-b228-b8fce8c030b6
DTSTAMP:20260423T074642Z
DESCRIPTION:
DTSTART;TZID=America/Chicago:20260730T180000
DTEND;TZID=America/Chicago:20260730T200000
LOCATION:Lincoln Ikes Rifle Range 4
SUMMARY:.22 Silhouettes (Range 4)
END:VEVENT
END:VCALENDAR
