BEGIN:VCALENDAR
VERSION:2.0
PRODID:-//lincolnikes.com//NONSGML kigkonsult.se iCalcreator 2.30.10//
CALSCALE:GREGORIAN
METHOD:PUBLISH
UID:4a2de417-b1b7-4e68-9577-b55897135325
X-WR-CALDESC:Weather Pending. If questionable\, please contact Match Direct
 or Jeff Shultz.
X-WR-RELCALID:db20e1d12f230e2e77c6d7b14fe9c78b
X-WR-TIMEZONE:America/Chicago
BEGIN:VTIMEZONE
TZID:America/Chicago
BEGIN:STANDARD
TZNAME:CST
DTSTART:20251102T020000
TZOFFSETFROM:-0500
TZOFFSETTO:-0600
RDATE:20261101T020000
RDATE:20271107T020000
END:STANDARD
BEGIN:DAYLIGHT
TZNAME:CDT
DTSTART:20260308T020000
TZOFFSETFROM:-0600
TZOFFSETTO:-0500
RDATE:20270314T020000
END:DAYLIGHT
END:VTIMEZONE
BEGIN:VEVENT
UID:2afa5dff-d0b1-4176-8176-34373c4986a8
DTSTAMP:20260423T093237Z
DESCRIPTION:Weather Pending. If questionable\, please contact Match Directo
 r Jeff Shultz.
DTSTART;TZID=America/Chicago:20260801T090000
DTEND;TZID=America/Chicago:20260801T130000
LOCATION:Lincoln Ikes Rifle Range 4
SUMMARY:Club Benchrest 300-Yard (Range 4)
END:VEVENT
END:VCALENDAR
