BEGIN:VCALENDAR
VERSION:2.0
PRODID:-//lincolnikes.com//NONSGML kigkonsult.se iCalcreator 2.30.10//
CALSCALE:GREGORIAN
METHOD:PUBLISH
UID:340209b7-ee36-469f-9f93-10644a218423
X-WR-CALDESC:
X-WR-RELCALID:dabac7622345507fd4c7070e46cf2641
X-WR-TIMEZONE:America/Chicago
BEGIN:VTIMEZONE
TZID:America/Chicago
BEGIN:STANDARD
TZNAME:CST
DTSTART:20251102T020000
TZOFFSETFROM:-0500
TZOFFSETTO:-0600
RDATE:20261101T020000
RDATE:20271107T020000
END:STANDARD
BEGIN:DAYLIGHT
TZNAME:CDT
DTSTART:20260308T020000
TZOFFSETFROM:-0600
TZOFFSETTO:-0500
RDATE:20270314T020000
END:DAYLIGHT
END:VTIMEZONE
BEGIN:VEVENT
UID:2dad6148-6aaf-4a9f-a535-4fc94f93363e
DTSTAMP:20260423T092649Z
DESCRIPTION:
DTSTART;TZID=America/Chicago:20260813T050000
DTEND;TZID=America/Chicago:20260813T050001
LOCATION:Lincoln Ikes Rifle/Pistol Range 4
SUMMARY:IHMSA State Shoot Set-Up Day (Range 4)
END:VEVENT
END:VCALENDAR
