BEGIN:VCALENDAR
VERSION:2.0
PRODID:-//lincolnikes.com//NONSGML kigkonsult.se iCalcreator 2.30.10//
CALSCALE:GREGORIAN
METHOD:PUBLISH
UID:497f5480-5b65-41cf-bd50-07284a9badb4
X-WR-CALDESC:
X-WR-RELCALID:4ec33204f0d09afca353b6d34f3776f8
X-WR-TIMEZONE:America/Chicago
BEGIN:VTIMEZONE
TZID:America/Chicago
BEGIN:STANDARD
TZNAME:CST
DTSTART:20251102T020000
TZOFFSETFROM:-0500
TZOFFSETTO:-0600
RDATE:20261101T020000
RDATE:20271107T020000
END:STANDARD
BEGIN:DAYLIGHT
TZNAME:CDT
DTSTART:20260308T020000
TZOFFSETFROM:-0600
TZOFFSETTO:-0500
RDATE:20270314T020000
END:DAYLIGHT
END:VTIMEZONE
BEGIN:VEVENT
UID:303d26c3-7f82-4027-801c-5e0396b1b0d2
DTSTAMP:20260423T092820Z
DESCRIPTION:
DTSTART;TZID=America/Chicago:20260814T080000
DTEND;TZID=America/Chicago:20260816T160000
LOCATION:Lincoln Ikes Rifle/Pistol Range 4
SUMMARY:IHMSA State Shoot (Range 4)
END:VEVENT
END:VCALENDAR
