BEGIN:VCALENDAR
VERSION:2.0
PRODID:-//lincolnikes.com//NONSGML kigkonsult.se iCalcreator 2.30.10//
CALSCALE:GREGORIAN
METHOD:PUBLISH
UID:e85a12df-11c9-47ad-b515-c64d1af0310d
X-WR-CALDESC:
X-WR-RELCALID:72f51906cb9c1fdf82c099f450a6685d
X-WR-TIMEZONE:America/Chicago
BEGIN:VTIMEZONE
TZID:America/Chicago
BEGIN:STANDARD
TZNAME:CST
DTSTART:20251102T020000
TZOFFSETFROM:-0500
TZOFFSETTO:-0600
RDATE:20261101T020000
RDATE:20271107T020000
END:STANDARD
BEGIN:DAYLIGHT
TZNAME:CDT
DTSTART:20260308T020000
TZOFFSETFROM:-0600
TZOFFSETTO:-0500
RDATE:20270314T020000
END:DAYLIGHT
END:VTIMEZONE
BEGIN:VEVENT
UID:aeaaa86e-dde0-46bb-b02f-5ef387803fa2
DTSTAMP:20260423T092649Z
DESCRIPTION:
DTSTART;TZID=America/Chicago:20260816T070000
DTEND;TZID=America/Chicago:20260816T150000
LOCATION:Rifle Range 2
SUMMARY:ARA Match (Range 2)
END:VEVENT
END:VCALENDAR
