BEGIN:VCALENDAR
VERSION:2.0
PRODID:-//lincolnikes.com//NONSGML kigkonsult.se iCalcreator 2.30.10//
CALSCALE:GREGORIAN
METHOD:PUBLISH
UID:095510d2-76bc-4d94-89db-bd01e7617720
X-WR-CALDESC:
X-WR-RELCALID:52990343d3eb10904dc6befed811ce00
X-WR-TIMEZONE:America/Chicago
BEGIN:VTIMEZONE
TZID:America/Chicago
BEGIN:STANDARD
TZNAME:CST
DTSTART:20251102T020000
TZOFFSETFROM:-0500
TZOFFSETTO:-0600
RDATE:20261101T020000
RDATE:20271107T020000
END:STANDARD
BEGIN:DAYLIGHT
TZNAME:CDT
DTSTART:20260308T020000
TZOFFSETFROM:-0600
TZOFFSETTO:-0500
RDATE:20270314T020000
END:DAYLIGHT
END:VTIMEZONE
BEGIN:VEVENT
UID:003245ca-9854-4b34-bb8c-8110083e2898
DTSTAMP:20260423T093441Z
DESCRIPTION:
DTSTART;TZID=America/Chicago:20260820T180000
DTEND;TZID=America/Chicago:20260820T200000
LOCATION:Lincoln Ikes Rifle Range 4
SUMMARY:.22 Silhouettes (Range 4)
END:VEVENT
END:VCALENDAR
