BEGIN:VCALENDAR
VERSION:2.0
PRODID:-//lincolnikes.com//NONSGML kigkonsult.se iCalcreator 2.30.10//
CALSCALE:GREGORIAN
METHOD:PUBLISH
UID:125ed915-f191-4410-80a2-83a8eb6ec97a
X-WR-CALDESC:
X-WR-RELCALID:fa8646b52b08d614f3cb28ebf2b2da6e
X-WR-TIMEZONE:America/Chicago
BEGIN:VTIMEZONE
TZID:America/Chicago
BEGIN:STANDARD
TZNAME:CST
DTSTART:20251102T020000
TZOFFSETFROM:-0500
TZOFFSETTO:-0600
RDATE:20261101T020000
RDATE:20271107T020000
END:STANDARD
BEGIN:DAYLIGHT
TZNAME:CDT
DTSTART:20260308T020000
TZOFFSETFROM:-0600
TZOFFSETTO:-0500
RDATE:20270314T020000
END:DAYLIGHT
END:VTIMEZONE
BEGIN:VEVENT
UID:3511748a-e2e8-4083-ab40-643782aeb17b
DTSTAMP:20260423T092548Z
DESCRIPTION:
DTSTART;TZID=America/Chicago:20260828T050000
DTEND;TZID=America/Chicago:20260828T050001
LOCATION:Lincoln Ikes Rifle Range 4
SUMMARY:NBRSA Range Set Up Day (Range 4)
END:VEVENT
END:VCALENDAR
