BEGIN:VCALENDAR
VERSION:2.0
PRODID:-//lincolnikes.com//NONSGML kigkonsult.se iCalcreator 2.30.10//
CALSCALE:GREGORIAN
METHOD:PUBLISH
UID:3d429ddf-c669-4df5-a7e8-7b77090bda2d
X-WR-CALDESC:Weather Pending. If questionable\, please contact Match Direct
 or Jeff Shultz.
X-WR-RELCALID:2e9a201c15b200ad7fd4817fab331601
X-WR-TIMEZONE:America/Chicago
BEGIN:VTIMEZONE
TZID:America/Chicago
BEGIN:STANDARD
TZNAME:CST
DTSTART:20251102T020000
TZOFFSETFROM:-0500
TZOFFSETTO:-0600
RDATE:20261101T020000
RDATE:20271107T020000
END:STANDARD
BEGIN:DAYLIGHT
TZNAME:CDT
DTSTART:20260308T020000
TZOFFSETFROM:-0600
TZOFFSETTO:-0500
RDATE:20270314T020000
END:DAYLIGHT
END:VTIMEZONE
BEGIN:VEVENT
UID:86397092-7271-4648-8698-a17868995cab
DTSTAMP:20260423T112404Z
DESCRIPTION:Weather Pending. If questionable\, please contact Match Directo
 r Jeff Shultz.
DTSTART;TZID=America/Chicago:20260905T090000
DTEND;TZID=America/Chicago:20260905T130000
LOCATION:Lincoln Ikes Rifle Range 4
SUMMARY:Club Benchrest 300-Yard (Range 4)
END:VEVENT
END:VCALENDAR
