BEGIN:VCALENDAR
VERSION:2.0
PRODID:-//lincolnikes.com//NONSGML kigkonsult.se iCalcreator 2.30.10//
CALSCALE:GREGORIAN
METHOD:PUBLISH
UID:9a03742c-b10a-43ff-bf1e-01da9d928677
X-WR-CALDESC:
X-WR-RELCALID:b6bf860f7b779d7744756ed4a3931887
X-WR-TIMEZONE:America/Chicago
BEGIN:VTIMEZONE
TZID:America/Chicago
BEGIN:STANDARD
TZNAME:CST
DTSTART:20251102T020000
TZOFFSETFROM:-0500
TZOFFSETTO:-0600
RDATE:20261101T020000
RDATE:20271107T020000
END:STANDARD
BEGIN:DAYLIGHT
TZNAME:CDT
DTSTART:20260308T020000
TZOFFSETFROM:-0600
TZOFFSETTO:-0500
RDATE:20270314T020000
RDATE:20280312T020000
END:DAYLIGHT
END:VTIMEZONE
BEGIN:VEVENT
UID:9bed9389-431a-46c3-ab92-eed37065ca02
DTSTAMP:20260423T112525Z
DESCRIPTION:
DTSTART;TZID=America/Chicago:20260912T090000
DTEND;TZID=America/Chicago:20260912T110000
LOCATION:Lincoln Ikes Rifle Range 4
SUMMARY:.22 Rimfire Sporter Rifle Match shot under CMP Rules (Range 4)
END:VEVENT
END:VCALENDAR
