BEGIN:VCALENDAR
VERSION:2.0
PRODID:-//lincolnikes.com//NONSGML kigkonsult.se iCalcreator 2.30.10//
CALSCALE:GREGORIAN
METHOD:PUBLISH
UID:327fb2a9-98c1-485c-8fbb-e27e40f3af40
X-WR-CALDESC:
X-WR-RELCALID:a9d328ec215dde2569722b5b30ca6148
X-WR-TIMEZONE:America/Chicago
BEGIN:VTIMEZONE
TZID:America/Chicago
BEGIN:STANDARD
TZNAME:CST
DTSTART:20251102T020000
TZOFFSETFROM:-0500
TZOFFSETTO:-0600
RDATE:20261101T020000
RDATE:20271107T020000
END:STANDARD
BEGIN:DAYLIGHT
TZNAME:CDT
DTSTART:20260308T020000
TZOFFSETFROM:-0600
TZOFFSETTO:-0500
RDATE:20270314T020000
RDATE:20280312T020000
END:DAYLIGHT
END:VTIMEZONE
BEGIN:VEVENT
UID:7f37c803-a468-491e-b52d-37c97a2d22fd
DTSTAMP:20260423T110732Z
DESCRIPTION:
DTSTART;TZID=America/Chicago:20260919T090000
DTEND;TZID=America/Chicago:20260919T140000
LOCATION:Lincoln Ikes Rifle Range 4
SUMMARY:Bowling Pin Match (Range 4)
END:VEVENT
END:VCALENDAR
