BEGIN:VCALENDAR
VERSION:2.0
PRODID:-//lincolnikes.com//NONSGML kigkonsult.se iCalcreator 2.30.10//
CALSCALE:GREGORIAN
METHOD:PUBLISH
UID:38b149b8-f096-4f75-8d4a-5bd43fd99fd9
X-WR-CALDESC:
X-WR-RELCALID:ea19d39aff0a9bdd04ffe52e2677c60b
X-WR-TIMEZONE:America/Chicago
BEGIN:VTIMEZONE
TZID:America/Chicago
BEGIN:STANDARD
TZNAME:CST
DTSTART:20251102T020000
TZOFFSETFROM:-0500
TZOFFSETTO:-0600
RDATE:20261101T020000
RDATE:20271107T020000
END:STANDARD
BEGIN:DAYLIGHT
TZNAME:CDT
DTSTART:20260308T020000
TZOFFSETFROM:-0600
TZOFFSETTO:-0500
RDATE:20270314T020000
RDATE:20280312T020000
END:DAYLIGHT
END:VTIMEZONE
BEGIN:VEVENT
UID:5461f549-955f-42f6-afa4-f2464186b0e6
DTSTAMP:20260423T110455Z
DESCRIPTION:
DTSTART;TZID=America/Chicago:20260920T070000
DTEND;TZID=America/Chicago:20260920T150000
LOCATION:Rifle Range 2
SUMMARY:ARA Match (Range 2)
END:VEVENT
END:VCALENDAR
