BEGIN:VCALENDAR
VERSION:2.0
PRODID:-//lincolnikes.com//NONSGML kigkonsult.se iCalcreator 2.30.10//
CALSCALE:GREGORIAN
METHOD:PUBLISH
UID:e4477b84-c3f8-4505-af1c-f63cf717404f
X-WR-CALDESC:
X-WR-RELCALID:a358817c7cc7273ca996abc75bac9637
X-WR-TIMEZONE:America/Chicago
BEGIN:VTIMEZONE
TZID:America/Chicago
BEGIN:STANDARD
TZNAME:CST
DTSTART:20251102T020000
TZOFFSETFROM:-0500
TZOFFSETTO:-0600
RDATE:20261101T020000
RDATE:20271107T020000
END:STANDARD
BEGIN:DAYLIGHT
TZNAME:CDT
DTSTART:20260308T020000
TZOFFSETFROM:-0600
TZOFFSETTO:-0500
RDATE:20270314T020000
RDATE:20280312T020000
END:DAYLIGHT
END:VTIMEZONE
BEGIN:VEVENT
UID:3fb1f369-d0d4-4dd7-b4e0-60d443cfb3be
DTSTAMP:20260425T105354Z
DESCRIPTION:
DTSTART;TZID=America/Chicago:20261013T191500
DTEND;TZID=America/Chicago:20261013T211500
LOCATION:Lincoln Ikes Clubhouse
SUMMARY:Board of Directors Meeting (Clubhouse)
END:VEVENT
END:VCALENDAR
