BEGIN:VCALENDAR
VERSION:2.0
PRODID:-//lincolnikes.com//NONSGML kigkonsult.se iCalcreator 2.30.10//
CALSCALE:GREGORIAN
METHOD:PUBLISH
UID:8fa8daf5-f41f-41c9-8b31-f288330a3323
X-WR-CALDESC:
X-WR-RELCALID:691e4b11efe7282c2a9ef11bcb75ef47
X-WR-TIMEZONE:America/Chicago
BEGIN:VTIMEZONE
TZID:America/Chicago
BEGIN:STANDARD
TZNAME:CST
DTSTART:20251102T020000
TZOFFSETFROM:-0500
TZOFFSETTO:-0600
RDATE:20261101T020000
RDATE:20271107T020000
END:STANDARD
BEGIN:DAYLIGHT
TZNAME:CDT
DTSTART:20260308T020000
TZOFFSETFROM:-0600
TZOFFSETTO:-0500
RDATE:20270314T020000
RDATE:20280312T020000
END:DAYLIGHT
END:VTIMEZONE
BEGIN:VEVENT
UID:d96ccb52-8331-4ff6-b6ea-e1497eabcbd0
DTSTAMP:20260423T124949Z
DESCRIPTION:
DTSTART;TZID=America/Chicago:20261018T080000
DTEND;TZID=America/Chicago:20261018T170000
LOCATION:Lincoln Ikes Rifle/Pistol Range 4
SUMMARY:IHMSA Handgun Match (Range 4)
END:VEVENT
END:VCALENDAR
