BEGIN:VCALENDAR
VERSION:2.0
PRODID:-//lincolnikes.com//NONSGML kigkonsult.se iCalcreator 2.30.10//
CALSCALE:GREGORIAN
METHOD:PUBLISH
UID:db30793e-8402-4247-abd3-4dea9765a040
X-WR-CALDESC:
X-WR-RELCALID:427ab5f10e9ef62a633e81741a4d1b2f
X-WR-TIMEZONE:America/Chicago
BEGIN:VTIMEZONE
TZID:America/Chicago
BEGIN:STANDARD
TZNAME:CST
DTSTART:20261101T020000
TZOFFSETFROM:-0500
TZOFFSETTO:-0600
RDATE:20271107T020000
END:STANDARD
BEGIN:DAYLIGHT
TZNAME:CDT
DTSTART:20260308T020000
TZOFFSETFROM:-0600
TZOFFSETTO:-0500
RDATE:20270314T020000
RDATE:20280312T020000
END:DAYLIGHT
END:VTIMEZONE
BEGIN:VEVENT
UID:9614d6d3-2078-4645-bc3c-b3c2cab65f1e
DTSTAMP:20260423T145228Z
DESCRIPTION:
DTSTART;TZID=America/Chicago:20261115T080000
DTEND;TZID=America/Chicago:20261115T120000
LOCATION:Lincoln Ikes Clubhouse
SUMMARY:IHMSA Indoor Pistol Silhouettes Match (Clubhouse)
END:VEVENT
END:VCALENDAR
