BEGIN:VCALENDAR
VERSION:2.0
PRODID:-//lincolnikes.com//NONSGML kigkonsult.se iCalcreator 2.30.10//
CALSCALE:GREGORIAN
METHOD:PUBLISH
UID:6827bd81-b903-4457-82df-d4bc6d49e91a
X-WR-CALDESC:
X-WR-RELCALID:d67e32346e5587893db296af69484b00
X-WR-TIMEZONE:America/Chicago
BEGIN:VTIMEZONE
TZID:America/Chicago
BEGIN:STANDARD
TZNAME:CST
DTSTART:20261101T020000
TZOFFSETFROM:-0500
TZOFFSETTO:-0600
RDATE:20271107T020000
END:STANDARD
BEGIN:DAYLIGHT
TZNAME:CDT
DTSTART:20260308T020000
TZOFFSETFROM:-0600
TZOFFSETTO:-0500
RDATE:20270314T020000
RDATE:20280312T020000
END:DAYLIGHT
END:VTIMEZONE
BEGIN:VEVENT
UID:767f400e-0f76-4832-b0d6-bfbeab1f51de
DTSTAMP:20260423T161308Z
DESCRIPTION:
DTSTART;TZID=America/Chicago:20261220T080000
DTEND;TZID=America/Chicago:20261220T120000
LOCATION:Lincoln Ikes Clubhouse
SUMMARY:IHMSA Indoor Pistol Silhouettes Match (Clubhouse)
END:VEVENT
END:VCALENDAR
